BEGIN:VCALENDAR
VERSION:2.0
PRODID:-//100 Black Men of the Inland Empire - ECPv6.10.1.1//NONSGML v1.0//EN
CALSCALE:GREGORIAN
METHOD:PUBLISH
X-WR-CALNAME:100 Black Men of the Inland Empire
X-ORIGINAL-URL:https://100bmie.org
X-WR-CALDESC:Events for 100 Black Men of the Inland Empire
REFRESH-INTERVAL;VALUE=DURATION:PT1H
X-Robots-Tag:noindex
X-PUBLISHED-TTL:PT1H
BEGIN:VTIMEZONE
TZID:America/Los_Angeles
BEGIN:DAYLIGHT
TZOFFSETFROM:-0800
TZOFFSETTO:-0700
TZNAME:PDT
DTSTART:20250309T100000
END:DAYLIGHT
BEGIN:STANDARD
TZOFFSETFROM:-0700
TZOFFSETTO:-0800
TZNAME:PST
DTSTART:20251102T090000
END:STANDARD
END:VTIMEZONE
BEGIN:VEVENT
DTSTART;TZID=America/Los_Angeles:20250913T080000
DTEND;TZID=America/Los_Angeles:20250913T090000
DTSTAMP:20260419T202826
CREATED:20250918T210753Z
LAST-MODIFIED:20250918T210753Z
UID:8457-1757750400-1757754000@100bmie.org
SUMMARY:September 2025 Adopt-A-Street Cleanup
DESCRIPTION:We will meet at 5th and Orange Street\, near the Riverside Convention Center\, at 7:30 a.m. Parking is available on the street. We look forward to working with you all to make a positive impact on our community.
URL:https://100bmie.org/event/september-2025-adopt-a-street-cleanup/
LOCATION:Ontario Convention Center\, 2000 E Convention Center Way\, Ontario\, CA\, 91764\, United States
ATTACH;FMTTYPE=image/jpeg:https://100bmie.org/wp-content/uploads/2025/09/IMG2616165330383145114.jpg
END:VEVENT
BEGIN:VEVENT
DTSTART;TZID=America/Los_Angeles:20250927T080000
DTEND;TZID=America/Los_Angeles:20250927T140000
DTSTAMP:20260419T202826
CREATED:20250918T211559Z
LAST-MODIFIED:20250918T211559Z
UID:8460-1758960000-1758981600@100bmie.org
SUMMARY:Blood Drive
DESCRIPTION:Come out and support by donating. \nDonors will receive a $15 e-gift card\, a $20 Amazon gift card\, and a choice of an exclusive kente pattern t-shirt or 1 of 4 mystery Peanuts T-shirts.
URL:https://100bmie.org/event/blood-drive/
LOCATION:American Red Cross Donation Center\, 100 Red Cross Cir\, Pomona\, CA\, 91768\, United States
ATTACH;FMTTYPE=image/jpeg:https://100bmie.org/wp-content/uploads/2025/09/IMG7103607081776997936.jpg
END:VEVENT
BEGIN:VEVENT
DTSTART;TZID=America/Los_Angeles:20250930T190000
DTEND;TZID=America/Los_Angeles:20250930T200000
DTSTAMP:20260419T202826
CREATED:20250918T181126Z
LAST-MODIFIED:20250918T181126Z
UID:8454-1759258800-1759262400@100bmie.org
SUMMARY:Economic Empowerment Classes 2025-2026
DESCRIPTION:📈 Future-Proof Your Teen’s Financial Skills! 💡 \nOur Economic Empowerment Class is back\, and it’s time to help your middle or high schooler Know Their Why and Take the Reins of Their Future! \nFrom budgeting basics to understanding credit\, and even entrepreneurship\, we’re covering the essential financial foundations for success. \nWhat they’ll gain: 💸 Money & Planning Mastery 💳 Credit Confidence 🗺️ Real-World Financial Know-How ✅ Smart & Safe Choices \n📅 Every other Tuesday\, starting Sept. 30th 2025 ⏰ one hour virtual sessions \nDon’t miss out on this empowering journey! ➡️ Learn More & Register Today!
URL:https://100bmie.org/event/economic-empowerment-classes-2025-2026/
ATTACH;FMTTYPE=image/png:https://100bmie.org/wp-content/uploads/2025/09/Economic-empowerment-classes-flyer.png
END:VEVENT
END:VCALENDAR