BEGIN:VCALENDAR
VERSION:2.0
PRODID:-//100 Black Men of the Inland Empire - ECPv6.10.1.1//NONSGML v1.0//EN
CALSCALE:GREGORIAN
METHOD:PUBLISH
X-ORIGINAL-URL:https://100bmie.org
X-WR-CALDESC:Events for 100 Black Men of the Inland Empire
REFRESH-INTERVAL;VALUE=DURATION:PT1H
X-Robots-Tag:noindex
X-PUBLISHED-TTL:PT1H
BEGIN:VTIMEZONE
TZID:America/Los_Angeles
BEGIN:DAYLIGHT
TZOFFSETFROM:-0800
TZOFFSETTO:-0700
TZNAME:PDT
DTSTART:20250309T100000
END:DAYLIGHT
BEGIN:STANDARD
TZOFFSETFROM:-0700
TZOFFSETTO:-0800
TZNAME:PST
DTSTART:20251102T090000
END:STANDARD
END:VTIMEZONE
BEGIN:VEVENT
DTSTART;TZID=America/Los_Angeles:20250719T080000
DTEND;TZID=America/Los_Angeles:20250719T090000
DTSTAMP:20260419T165115
CREATED:20250627T230639Z
LAST-MODIFIED:20250627T230639Z
UID:8391-1752912000-1752915600@100bmie.org
SUMMARY:July 2025 Adopt-A-Street Cleanup
DESCRIPTION:We will meet at 5th and Orange Street\, near the Riverside Convention Center\, at 7:30 a.m. Parking is available on the street. We look forward to working with you all to make a positive impact on our community
URL:https://100bmie.org/event/july-2025-adopt-a-street-cleanup/
LOCATION:Riverside Street cleanup\, 3475-3499 Orange St\, Riverside\, CA\, 92501\, United States
ATTACH;FMTTYPE=image/jpeg:https://100bmie.org/wp-content/uploads/2025/06/Street-Clean-Up-July-2025-QR_page-0001.jpg
END:VEVENT
BEGIN:VEVENT
DTSTART;TZID=America/Los_Angeles:20250726T100000
DTEND;TZID=America/Los_Angeles:20250726T150000
DTSTAMP:20260419T165115
CREATED:20250629T002654Z
LAST-MODIFIED:20250629T002654Z
UID:8410-1753524000-1753542000@100bmie.org
SUMMARY:Annual Backpack Giveaway - 2025
DESCRIPTION:Come join us for a fun filled day of exciting raffles\, yummy food\, and great music. \nFor questions\, please call: \n909-474-9212 \nFirst come\, first serve. While supplies last.
URL:https://100bmie.org/event/annual-backpack-giveaway-2025/
LOCATION:1505 W Highland Ave. San Bernardino CA 92411\, 1505 W Highland Ave.\, San Bernardino\, CA\, 92411\, United States
ATTACH;FMTTYPE=image/jpeg:https://100bmie.org/wp-content/uploads/2025/06/IMG332800927576346893.jpg
END:VEVENT
BEGIN:VEVENT
DTSTART;VALUE=DATE:20250727
DTEND;VALUE=DATE:20250802
DTSTAMP:20260419T165115
CREATED:20250627T231559Z
LAST-MODIFIED:20250627T231559Z
UID:8394-1753574400-1754092799@100bmie.org
SUMMARY:EE Just Marine Science Program
DESCRIPTION:Bridge Builders Foundation proudly hosts three residential marine science camps each summer\, partnering with USC Wrigley\, UCSD/Scripps\, and Monterey Bay Aquarium to inspire youth of color in grades 5–12. \nThese 100% free\, immersive experiences provide hands-on STEM learning and college exposure in real research environments. Over 1\,000 youth have participated to date — building confidence\, belonging\, and opportunity in underrepresented communities.
URL:https://100bmie.org/event/ee-just-marine-science-program/
ATTACH;FMTTYPE=image/jpeg:https://100bmie.org/wp-content/uploads/2025/06/IMG3323718309200824246.jpg
END:VEVENT
END:VCALENDAR