BEGIN:VCALENDAR
VERSION:2.0
PRODID:-//100 Black Men of the Inland Empire - ECPv6.10.1.1//NONSGML v1.0//EN
CALSCALE:GREGORIAN
METHOD:PUBLISH
X-WR-CALNAME:100 Black Men of the Inland Empire
X-ORIGINAL-URL:https://100bmie.org
X-WR-CALDESC:Events for 100 Black Men of the Inland Empire
REFRESH-INTERVAL;VALUE=DURATION:PT1H
X-Robots-Tag:noindex
X-PUBLISHED-TTL:PT1H
BEGIN:VTIMEZONE
TZID:America/Los_Angeles
BEGIN:DAYLIGHT
TZOFFSETFROM:-0800
TZOFFSETTO:-0700
TZNAME:PDT
DTSTART:20250309T100000
END:DAYLIGHT
BEGIN:STANDARD
TZOFFSETFROM:-0700
TZOFFSETTO:-0800
TZNAME:PST
DTSTART:20251102T090000
END:STANDARD
END:VTIMEZONE
BEGIN:VEVENT
DTSTART;TZID=America/Los_Angeles:20250913T080000
DTEND;TZID=America/Los_Angeles:20250913T090000
DTSTAMP:20260419T233310
CREATED:20250918T210753Z
LAST-MODIFIED:20250918T210753Z
UID:8457-1757750400-1757754000@100bmie.org
SUMMARY:September 2025 Adopt-A-Street Cleanup
DESCRIPTION:We will meet at 5th and Orange Street\, near the Riverside Convention Center\, at 7:30 a.m. Parking is available on the street. We look forward to working with you all to make a positive impact on our community.
URL:https://100bmie.org/event/september-2025-adopt-a-street-cleanup/
LOCATION:Ontario Convention Center\, 2000 E Convention Center Way\, Ontario\, CA\, 91764\, United States
ATTACH;FMTTYPE=image/jpeg:https://100bmie.org/wp-content/uploads/2025/09/IMG2616165330383145114.jpg
END:VEVENT
BEGIN:VEVENT
DTSTART;TZID=America/Los_Angeles:20250816T080000
DTEND;TZID=America/Los_Angeles:20250816T090000
DTSTAMP:20260419T233310
CREATED:20250730T155623Z
LAST-MODIFIED:20250730T155623Z
UID:8425-1755331200-1755334800@100bmie.org
SUMMARY:August 2025 Adopt-A-Street Cleanup
DESCRIPTION:We will meet at 5th and Orange Street\, near the Riverside Convention Center\, at 7:30 a.m. Parking is available on the street. We look forward to working with you all to make a positive impact on our community.
URL:https://100bmie.org/event/august-2025-adopt-a-street-cleanup/
LOCATION:Riverside Street cleanup\, 3475-3499 Orange St\, Riverside\, CA\, 92501\, United States
ATTACH;FMTTYPE=image/jpeg:https://100bmie.org/wp-content/uploads/2025/07/image0-1.jpeg
END:VEVENT
BEGIN:VEVENT
DTSTART;TZID=America/Los_Angeles:20250809T110000
DTEND;TZID=America/Los_Angeles:20250809T140000
DTSTAMP:20260419T233310
CREATED:20250629T003252Z
LAST-MODIFIED:20250730T155905Z
UID:8414-1754737200-1754748000@100bmie.org
SUMMARY:The Sigma ETA Chapter of Omega Psi Phi: School Supply Drive - 2025
DESCRIPTION:Free school supplies\, hygiene products\, haircuts\, music\, and community resources. \nFor questions contact: \nFazein Kennon (951)374-2049
URL:https://100bmie.org/event/the-sigma-eta-chapter-of-omega-psi-phi-school-supply-drive-2025/
LOCATION:BORDWELL PARK\, 2008 Martin Luther King Blvd\, Riverside\, CA\, 92507\, United States
ATTACH;FMTTYPE=image/jpeg:https://100bmie.org/wp-content/uploads/2025/06/IMG1824957451788839634.jpg
END:VEVENT
BEGIN:VEVENT
DTSTART;VALUE=DATE:20250804
DTEND;VALUE=DATE:20250809
DTSTAMP:20260419T233310
CREATED:20250627T232307Z
LAST-MODIFIED:20250627T232307Z
UID:8400-1754265600-1754697599@100bmie.org
SUMMARY:Exploring Our Ocean Planet
DESCRIPTION:Bridge Builders Foundation proudly hosts three residential marine science camps each summer\, partnering with USC Wrigley\, UCSD/Scripps\, and Monterey Bay Aquarium to inspire youth of color in grades 11–12. \n\nThese 100% free\, immersive experiences provide hands-on STEM learning and college exposure in real research environments. Over 1\,000 youth have participated to date — building confidence\, belonging\, and opportunity in underrepresented communities. \nSee flyer for dates and apply online \nLet them know the 100 Black Men of the Inland Empire sent you!
URL:https://100bmie.org/event/exploring-our-ocean-planet/
LOCATION:CA
ATTACH;FMTTYPE=image/jpeg:https://100bmie.org/wp-content/uploads/2025/06/IMG4686855833807645342.jpg
END:VEVENT
BEGIN:VEVENT
DTSTART;TZID=America/Los_Angeles:20250801T080000
DTEND;TZID=America/Los_Angeles:20250817T170000
DTSTAMP:20260419T233310
CREATED:20250627T232000Z
LAST-MODIFIED:20250627T232000Z
UID:8397-1754035200-1755450000@100bmie.org
SUMMARY:Summer Science Camp - 2025
DESCRIPTION:Bridge Builders Foundation proudly hosts three residential marine science camps each summer\, partnering with USC Wrigley\, UCSD/Scripps\, and Monterey Bay Aquarium to inspire youth of color in grades 5–12. \n  \nThese 100% free\, immersive experiences provide hands-on STEM learning and college exposure in real research environments. Over 1\,000 youth have participated to date — building confidence\, belonging\, and opportunity in underrepresented communities. \nSee flyer for dates and apply online \nLet them know the 100 Black Men of the Inland Empire sent you!
URL:https://100bmie.org/event/summer-science-camp-2025/
LOCATION:CA
ATTACH;FMTTYPE=image/jpeg:https://100bmie.org/wp-content/uploads/2025/06/IMG4200243331425472241.jpg
END:VEVENT
BEGIN:VEVENT
DTSTART;VALUE=DATE:20250727
DTEND;VALUE=DATE:20250802
DTSTAMP:20260419T233310
CREATED:20250627T231559Z
LAST-MODIFIED:20250627T231559Z
UID:8394-1753574400-1754092799@100bmie.org
SUMMARY:EE Just Marine Science Program
DESCRIPTION:Bridge Builders Foundation proudly hosts three residential marine science camps each summer\, partnering with USC Wrigley\, UCSD/Scripps\, and Monterey Bay Aquarium to inspire youth of color in grades 5–12. \nThese 100% free\, immersive experiences provide hands-on STEM learning and college exposure in real research environments. Over 1\,000 youth have participated to date — building confidence\, belonging\, and opportunity in underrepresented communities.
URL:https://100bmie.org/event/ee-just-marine-science-program/
LOCATION:CA
ATTACH;FMTTYPE=image/jpeg:https://100bmie.org/wp-content/uploads/2025/06/IMG3323718309200824246.jpg
END:VEVENT
BEGIN:VEVENT
DTSTART;TZID=America/Los_Angeles:20250726T100000
DTEND;TZID=America/Los_Angeles:20250726T150000
DTSTAMP:20260419T233310
CREATED:20250629T002654Z
LAST-MODIFIED:20250629T002654Z
UID:8410-1753524000-1753542000@100bmie.org
SUMMARY:Annual Backpack Giveaway - 2025
DESCRIPTION:Come join us for a fun filled day of exciting raffles\, yummy food\, and great music. \nFor questions\, please call: \n909-474-9212 \nFirst come\, first serve. While supplies last.
URL:https://100bmie.org/event/annual-backpack-giveaway-2025/
LOCATION:1505 W Highland Ave. San Bernardino CA 92411\, 1505 W Highland Ave.\, San Bernardino\, CA\, 92411\, United States
ATTACH;FMTTYPE=image/jpeg:https://100bmie.org/wp-content/uploads/2025/06/IMG332800927576346893.jpg
END:VEVENT
BEGIN:VEVENT
DTSTART;TZID=America/Los_Angeles:20250719T080000
DTEND;TZID=America/Los_Angeles:20250719T090000
DTSTAMP:20260419T233310
CREATED:20250627T230639Z
LAST-MODIFIED:20250627T230639Z
UID:8391-1752912000-1752915600@100bmie.org
SUMMARY:July 2025 Adopt-A-Street Cleanup
DESCRIPTION:We will meet at 5th and Orange Street\, near the Riverside Convention Center\, at 7:30 a.m. Parking is available on the street. We look forward to working with you all to make a positive impact on our community
URL:https://100bmie.org/event/july-2025-adopt-a-street-cleanup/
LOCATION:Riverside Street cleanup\, 3475-3499 Orange St\, Riverside\, CA\, 92501\, United States
ATTACH;FMTTYPE=image/jpeg:https://100bmie.org/wp-content/uploads/2025/06/Street-Clean-Up-July-2025-QR_page-0001.jpg
END:VEVENT
BEGIN:VEVENT
DTSTART;TZID=America/Los_Angeles:20250622T110000
DTEND;TZID=America/Los_Angeles:20250622T160000
DTSTAMP:20260419T233310
CREATED:20250615T035551Z
LAST-MODIFIED:20250615T035551Z
UID:8384-1750590000-1750608000@100bmie.org
SUMMARY:Diamond Bar Woman's Club Presents Juneteenth Community Festival
DESCRIPTION:Join us for a day of festivities including music\, food\, and activities that honor this important day.
URL:https://100bmie.org/event/diamond-bar-womans-club-presents-juneteenth-community-festival/
LOCATION:Copley Drive\, 21865 Copley Drive\, Diamond Bar\, CA\, 91765\, United States
ATTACH;FMTTYPE=image/jpeg:https://100bmie.org/wp-content/uploads/2025/06/IMG_20250614_104652.jpg
END:VEVENT
BEGIN:VEVENT
DTSTART;TZID=America/Los_Angeles:20250621T080000
DTEND;TZID=America/Los_Angeles:20250621T090000
DTSTAMP:20260419T233310
CREATED:20250613T040607Z
LAST-MODIFIED:20250613T040607Z
UID:8374-1750492800-1750496400@100bmie.org
SUMMARY:June 2025 Adopt-A-Street Cleanup
DESCRIPTION:We will meet at 5th and Orange Street\, near the Riverside Convention Center\, at 7:30 a.m. Parking is available on the street. \n  \nWe look forward to working with you all to make a positive impact on our community
URL:https://100bmie.org/event/june-2025-adopt-a-street-cleanup/
LOCATION:Riverside Street cleanup\, 3475-3499 Orange St\, Riverside\, CA\, 92501\, United States
ATTACH;FMTTYPE=image/jpeg:https://100bmie.org/wp-content/uploads/2025/06/504776804_1117900690381994_4533927166016074351_n.jpg
END:VEVENT
BEGIN:VEVENT
DTSTART;TZID=America/Los_Angeles:20250619T160000
DTEND;TZID=America/Los_Angeles:20250619T210000
DTSTAMP:20260419T233310
CREATED:20250615T034811Z
LAST-MODIFIED:20250615T034941Z
UID:8377-1750348800-1750366800@100bmie.org
SUMMARY:Juneteenth Jam
DESCRIPTION:Come see us at the Juneteenth event in Fergusson Park.
URL:https://100bmie.org/event/8377/
LOCATION:Fergusson Park\, 2395 W Sunrise Dr.\, Rialto\, 92377\, United States
ATTACH;FMTTYPE=image/jpeg:https://100bmie.org/wp-content/uploads/2025/06/IMG_20250614_104649.jpg
END:VEVENT
BEGIN:VEVENT
DTSTART;TZID=America/Los_Angeles:20250517T093000
DTEND;TZID=America/Los_Angeles:20250517T130000
DTSTAMP:20260419T233310
CREATED:20250516T032215Z
LAST-MODIFIED:20250516T032215Z
UID:8354-1747474200-1747486800@100bmie.org
SUMMARY:2025 STEM DRONE CAMP - FINAL SESSION
DESCRIPTION:
URL:https://100bmie.org/event/2025-stem-drone-camp-final-session/
LOCATION:Riverside City College\, 4800 Magnolia Ave\, Riverside\, CA\, 92506\, United States
ATTACH;FMTTYPE=image/jpeg:https://100bmie.org/wp-content/uploads/2025/05/IMG226400784965029311.jpg
END:VEVENT
BEGIN:VEVENT
DTSTART;TZID=America/Los_Angeles:20250517T080000
DTEND;TZID=America/Los_Angeles:20250517T083000
DTSTAMP:20260419T233310
CREATED:20250516T031651Z
LAST-MODIFIED:20250516T031651Z
UID:8351-1747468800-1747470600@100bmie.org
SUMMARY:May 2025 Adopt-A-Street Cleanup
DESCRIPTION:We will meet at 5th and Orange Street near the Riverside Convention Center at 7:30 am. Parking is available on the street. \n  \nWe look forward to working with you all to make a positive impact on our community
URL:https://100bmie.org/event/may-2025-adopt-a-street-cleanup/
LOCATION:Riverside Street cleanup\, 3475-3499 Orange St\, Riverside\, CA\, 92501\, United States
ATTACH;FMTTYPE=image/jpeg:https://100bmie.org/wp-content/uploads/2025/05/IMG8226291770732896710.jpg
END:VEVENT
BEGIN:VEVENT
DTSTART;VALUE=DATE:20250421
DTEND;VALUE=DATE:20250422
DTSTAMP:20260419T233310
CREATED:20250224T194946Z
LAST-MODIFIED:20250224T194946Z
UID:8314-1745193600-1745279999@100bmie.org
SUMMARY:9th Annual Golf Tournament
DESCRIPTION:The members of the 100 Black Men of the Inland Empire cordially invite you to join us for our 9th annual golf tournament taking place on April 21\, 2025 at The Victoria Club. Registration starts at 7:00AM\, with our shotgun start at 8:30AM. We will have a light breakfast\, an array of events/contests\, trophies\, raffle prizes and more!
URL:https://100bmie.org/event/9th-annual-golf-tournament/
LOCATION:Victoria Club in Riverside\, 2521 Arroyo Dr.\, Riverside\, CA\, 92506\, United States
ATTACH;FMTTYPE=image/jpeg:https://100bmie.org/wp-content/uploads/2025/02/GOLF-TOURNEY-copy2-scaled.jpg
END:VEVENT
BEGIN:VEVENT
DTSTART;TZID=America/Los_Angeles:20250329T080000
DTEND;TZID=America/Los_Angeles:20250329T093000
DTSTAMP:20260419T233310
CREATED:20250225T173333Z
LAST-MODIFIED:20250225T173333Z
UID:8318-1743235200-1743240600@100bmie.org
SUMMARY:March 2025 Adopt-A-Street Cleanup
DESCRIPTION:We will meet at 5th and Orange Street near the Riverside Convention Center at 7:30 am. Parking is available on the street. \n  \nWe look forward to working with you all to make a positive impact on our community
URL:https://100bmie.org/event/march-2025-adopt-a-street-cleanup/
LOCATION:Riverside Street cleanup\, 3475-3499 Orange St\, Riverside\, CA\, 92501\, United States
ATTACH;FMTTYPE=image/jpeg:https://100bmie.org/wp-content/uploads/2025/02/IMG_20250225_082451.jpg
END:VEVENT
BEGIN:VEVENT
DTSTART;TZID=America/Los_Angeles:20250308T093000
DTEND;TZID=America/Los_Angeles:20250308T130000
DTSTAMP:20260419T233310
CREATED:20250224T192416Z
LAST-MODIFIED:20250224T193612Z
UID:8307-1741426200-1741438800@100bmie.org
SUMMARY:2025 STEM DRONE CAMP - SESSION 2
DESCRIPTION:100 Black Men of the Inland Empire \nPRESENTS THE \n2025 STEM DRONE CAMP\nGet ready to dive into the exciting world of drones! This camp offers a hands-on experience where you’ll design\, build\, and fly your own drone\, exploring the core principles of STEM and engineering. We’re aiming to ignite your passion for aerospace\, robotics\, and the fundamentals of electrical and mechanical engineering\, fueling the next generation of innovators. \n  \nGreat news:  we are still accepting new students to the program! If interested\, register today!
URL:https://100bmie.org/event/2025-stem-drone-camp-session-2/
LOCATION:La Sierra University\, 4500 Riverwalk Pkwy\, Riverside\, CA\, 92505\, United States
ATTACH;FMTTYPE=image/jpeg:https://100bmie.org/wp-content/uploads/2025/02/Flyer-Done-Camp-3-8-25-100BMIE.jpg
END:VEVENT
END:VCALENDAR