BEGIN:VCALENDAR
VERSION:2.0
PRODID:-//100 Black Men of the Inland Empire - ECPv6.10.1.1//NONSGML v1.0//EN
CALSCALE:GREGORIAN
METHOD:PUBLISH
X-ORIGINAL-URL:https://100bmie.org
X-WR-CALDESC:Events for 100 Black Men of the Inland Empire
REFRESH-INTERVAL;VALUE=DURATION:PT1H
X-Robots-Tag:noindex
X-PUBLISHED-TTL:PT1H
BEGIN:VTIMEZONE
TZID:America/Los_Angeles
BEGIN:DAYLIGHT
TZOFFSETFROM:-0800
TZOFFSETTO:-0700
TZNAME:PDT
DTSTART:20260308T100000
END:DAYLIGHT
BEGIN:STANDARD
TZOFFSETFROM:-0700
TZOFFSETTO:-0800
TZNAME:PST
DTSTART:20261101T090000
END:STANDARD
END:VTIMEZONE
BEGIN:VEVENT
DTSTART;TZID=America/Los_Angeles:20260221T080000
DTEND;TZID=America/Los_Angeles:20260221T113000
DTSTAMP:20260419T170547
CREATED:20260213T161727Z
LAST-MODIFIED:20260213T161727Z
UID:8558-1771660800-1771673400@100bmie.org
SUMMARY:February 2026 Adopt-A-Street Cleanup
DESCRIPTION:We will meet at 5th and Orange Street\, near the Riverside Convention Center\, at 7:30 a.m. Parking is available on the street. We look forward to working with you all to make a positive impact on our community.
URL:https://100bmie.org/event/february-2026-adopt-a-street-cleanup/
LOCATION:Riverside Convention Center\, 3637 5th St\, Riverside\, 92501\, United States
ATTACH;FMTTYPE=image/png:https://100bmie.org/wp-content/uploads/2026/02/Screenshot_20260213-055539.png
END:VEVENT
BEGIN:VEVENT
DTSTART;TZID=America/Los_Angeles:20260221T100000
DTEND;TZID=America/Los_Angeles:20260221T140000
DTSTAMP:20260419T170547
CREATED:20260202T203750Z
LAST-MODIFIED:20260202T203750Z
UID:8534-1771668000-1771682400@100bmie.org
SUMMARY:Rising 100 Young Men's Symposium
DESCRIPTION:
URL:https://100bmie.org/event/rising-100-young-mens-symposium/
ATTACH;FMTTYPE=image/jpeg:https://100bmie.org/wp-content/uploads/2026/02/619315003_1303711675134227_3276421914262785858_n.jpg
END:VEVENT
END:VCALENDAR