BEGIN:VCALENDAR
VERSION:2.0
PRODID:-//100 Black Men of the Inland Empire - ECPv6.10.1.1//NONSGML v1.0//EN
CALSCALE:GREGORIAN
METHOD:PUBLISH
X-WR-CALNAME:100 Black Men of the Inland Empire
X-ORIGINAL-URL:https://100bmie.org
X-WR-CALDESC:Events for 100 Black Men of the Inland Empire
REFRESH-INTERVAL;VALUE=DURATION:PT1H
X-Robots-Tag:noindex
X-PUBLISHED-TTL:PT1H
BEGIN:VTIMEZONE
TZID:America/Los_Angeles
BEGIN:DAYLIGHT
TZOFFSETFROM:-0800
TZOFFSETTO:-0700
TZNAME:PDT
DTSTART:20250309T100000
END:DAYLIGHT
BEGIN:STANDARD
TZOFFSETFROM:-0700
TZOFFSETTO:-0800
TZNAME:PST
DTSTART:20251102T090000
END:STANDARD
END:VTIMEZONE
BEGIN:VEVENT
DTSTART;TZID=America/Los_Angeles:20251025T170000
DTEND;TZID=America/Los_Angeles:20251025T200000
DTSTAMP:20260419T235019
CREATED:20250516T031220Z
LAST-MODIFIED:20250726T183413Z
UID:8347-1761411600-1761422400@100bmie.org
SUMMARY:9th Annual Gala
DESCRIPTION:Join us for an evening of dinner\, dancing\, and elegance as we honor our local trailblazers. \nDon’t miss a good time while making a difference! Last year’s event sold out fast\, so get your tickets now before it’s too late. You won’t be disappointed.
URL:https://100bmie.org/event/9th-annual-gala/
LOCATION:Ontario Convention Center\, 2000 E Convention Center Way\, Ontario\, CA\, 91764\, United States
ATTACH;FMTTYPE=image/png:https://100bmie.org/wp-content/uploads/2025/07/FINAL-doc-9th-Annual-Gala.png
END:VEVENT
END:VCALENDAR