BEGIN:VCALENDAR
VERSION:2.0
PRODID:-//100 Black Men of the Inland Empire - ECPv6.10.1.1//NONSGML v1.0//EN
CALSCALE:GREGORIAN
METHOD:PUBLISH
X-ORIGINAL-URL:https://100bmie.org
X-WR-CALDESC:Events for 100 Black Men of the Inland Empire
REFRESH-INTERVAL;VALUE=DURATION:PT1H
X-Robots-Tag:noindex
X-PUBLISHED-TTL:PT1H
BEGIN:VTIMEZONE
TZID:America/Los_Angeles
BEGIN:DAYLIGHT
TZOFFSETFROM:-0800
TZOFFSETTO:-0700
TZNAME:PDT
DTSTART:20250309T100000
END:DAYLIGHT
BEGIN:STANDARD
TZOFFSETFROM:-0700
TZOFFSETTO:-0800
TZNAME:PST
DTSTART:20251102T090000
END:STANDARD
END:VTIMEZONE
BEGIN:VEVENT
DTSTART;TZID=America/Los_Angeles:20251011T090000
DTEND;TZID=America/Los_Angeles:20251011T110000
DTSTAMP:20260419T235130
CREATED:20250918T223654Z
LAST-MODIFIED:20250918T223654Z
UID:8471-1760173200-1760180400@100bmie.org
SUMMARY:The Entrepreneurial Mindset: From Idea to Impact
DESCRIPTION:Give your student a competitive edge! Our workshop\, “The Entrepreneurial Mindset: From Idea to Impact\,” goes beyond the textbook to teach critical skills like creative problem-solving and pitching ideas. Help them unlock their potential and see the world differently.
URL:https://100bmie.org/event/the-entrepreneurial-mindset-from-idea-to-impact/
ATTACH;FMTTYPE=image/png:https://100bmie.org/wp-content/uploads/2025/09/The-Entrepreneurial-Mindset-flyer.png
END:VEVENT
END:VCALENDAR