BEGIN:VCALENDAR
VERSION:2.0
PRODID:-//100 Black Men of the Inland Empire - ECPv6.10.1.1//NONSGML v1.0//EN
CALSCALE:GREGORIAN
METHOD:PUBLISH
X-WR-CALNAME:100 Black Men of the Inland Empire
X-ORIGINAL-URL:https://100bmie.org
X-WR-CALDESC:Events for 100 Black Men of the Inland Empire
REFRESH-INTERVAL;VALUE=DURATION:PT1H
X-Robots-Tag:noindex
X-PUBLISHED-TTL:PT1H
BEGIN:VTIMEZONE
TZID:America/Los_Angeles
BEGIN:DAYLIGHT
TZOFFSETFROM:-0800
TZOFFSETTO:-0700
TZNAME:PDT
DTSTART:20250309T100000
END:DAYLIGHT
BEGIN:STANDARD
TZOFFSETFROM:-0700
TZOFFSETTO:-0800
TZNAME:PST
DTSTART:20251102T090000
END:STANDARD
END:VTIMEZONE
BEGIN:VEVENT
DTSTART;TZID=America/Los_Angeles:20250801T080000
DTEND;TZID=America/Los_Angeles:20250817T170000
DTSTAMP:20260419T202734
CREATED:20250627T232000Z
LAST-MODIFIED:20250627T232000Z
UID:8397-1754035200-1755450000@100bmie.org
SUMMARY:Summer Science Camp - 2025
DESCRIPTION:Bridge Builders Foundation proudly hosts three residential marine science camps each summer\, partnering with USC Wrigley\, UCSD/Scripps\, and Monterey Bay Aquarium to inspire youth of color in grades 5–12. \n  \nThese 100% free\, immersive experiences provide hands-on STEM learning and college exposure in real research environments. Over 1\,000 youth have participated to date — building confidence\, belonging\, and opportunity in underrepresented communities. \nSee flyer for dates and apply online \nLet them know the 100 Black Men of the Inland Empire sent you!
URL:https://100bmie.org/event/summer-science-camp-2025/
ATTACH;FMTTYPE=image/jpeg:https://100bmie.org/wp-content/uploads/2025/06/IMG4200243331425472241.jpg
END:VEVENT
END:VCALENDAR