BEGIN:VCALENDAR
VERSION:2.0
PRODID:-//100 Black Men of the Inland Empire - ECPv6.10.1.1//NONSGML v1.0//EN
CALSCALE:GREGORIAN
METHOD:PUBLISH
X-ORIGINAL-URL:https://100bmie.org
X-WR-CALDESC:Events for 100 Black Men of the Inland Empire
REFRESH-INTERVAL;VALUE=DURATION:PT1H
X-Robots-Tag:noindex
X-PUBLISHED-TTL:PT1H
BEGIN:VTIMEZONE
TZID:America/Los_Angeles
BEGIN:DAYLIGHT
TZOFFSETFROM:-0800
TZOFFSETTO:-0700
TZNAME:PDT
DTSTART:20250309T100000
END:DAYLIGHT
BEGIN:STANDARD
TZOFFSETFROM:-0700
TZOFFSETTO:-0800
TZNAME:PST
DTSTART:20251102T090000
END:STANDARD
END:VTIMEZONE
BEGIN:VEVENT
DTSTART;TZID=America/Los_Angeles:20250619T160000
DTEND;TZID=America/Los_Angeles:20250619T210000
DTSTAMP:20260419T133408
CREATED:20250615T034811Z
LAST-MODIFIED:20250615T034941Z
UID:8377-1750348800-1750366800@100bmie.org
SUMMARY:Juneteenth Jam
DESCRIPTION:Come see us at the Juneteenth event in Fergusson Park.
URL:https://100bmie.org/event/8377/
LOCATION:Fergusson Park\, 2395 W Sunrise Dr.\, Rialto\, 92377\, United States
ATTACH;FMTTYPE=image/jpeg:https://100bmie.org/wp-content/uploads/2025/06/IMG_20250614_104649.jpg
END:VEVENT
END:VCALENDAR