BEGIN:VCALENDAR
VERSION:2.0
PRODID:-//100 Black Men of the Inland Empire - ECPv6.10.1.1//NONSGML v1.0//EN
CALSCALE:GREGORIAN
METHOD:PUBLISH
X-WR-CALNAME:100 Black Men of the Inland Empire
X-ORIGINAL-URL:https://100bmie.org
X-WR-CALDESC:Events for 100 Black Men of the Inland Empire
REFRESH-INTERVAL;VALUE=DURATION:PT1H
X-Robots-Tag:noindex
X-PUBLISHED-TTL:PT1H
BEGIN:VTIMEZONE
TZID:America/Los_Angeles
BEGIN:DAYLIGHT
TZOFFSETFROM:-0800
TZOFFSETTO:-0700
TZNAME:PDT
DTSTART:20250309T100000
END:DAYLIGHT
BEGIN:STANDARD
TZOFFSETFROM:-0700
TZOFFSETTO:-0800
TZNAME:PST
DTSTART:20251102T090000
END:STANDARD
END:VTIMEZONE
BEGIN:VEVENT
DTSTART;TZID=America/Los_Angeles:20250517T080000
DTEND;TZID=America/Los_Angeles:20250517T083000
DTSTAMP:20260419T102513
CREATED:20250516T031651Z
LAST-MODIFIED:20250516T031651Z
UID:8351-1747468800-1747470600@100bmie.org
SUMMARY:May 2025 Adopt-A-Street Cleanup
DESCRIPTION:We will meet at 5th and Orange Street near the Riverside Convention Center at 7:30 am. Parking is available on the street. \n  \nWe look forward to working with you all to make a positive impact on our community
URL:https://100bmie.org/event/may-2025-adopt-a-street-cleanup/
LOCATION:Riverside Street cleanup\, 3475-3499 Orange St\, Riverside\, CA\, 92501\, United States
ATTACH;FMTTYPE=image/jpeg:https://100bmie.org/wp-content/uploads/2025/05/IMG8226291770732896710.jpg
END:VEVENT
BEGIN:VEVENT
DTSTART;TZID=America/Los_Angeles:20250517T093000
DTEND;TZID=America/Los_Angeles:20250517T130000
DTSTAMP:20260419T102513
CREATED:20250516T032215Z
LAST-MODIFIED:20250516T032215Z
UID:8354-1747474200-1747486800@100bmie.org
SUMMARY:2025 STEM DRONE CAMP - FINAL SESSION
DESCRIPTION:
URL:https://100bmie.org/event/2025-stem-drone-camp-final-session/
LOCATION:Riverside City College\, 4800 Magnolia Ave\, Riverside\, CA\, 92506\, United States
ATTACH;FMTTYPE=image/jpeg:https://100bmie.org/wp-content/uploads/2025/05/IMG226400784965029311.jpg
END:VEVENT
END:VCALENDAR